BEGIN:VCALENDAR
VERSION:2.0
PRODID:-//Rapid Weapon Deployment Systems L.L.C. - ECPv6.15.20//NONSGML v1.0//EN
CALSCALE:GREGORIAN
METHOD:PUBLISH
X-WR-CALNAME:Rapid Weapon Deployment Systems L.L.C.
X-ORIGINAL-URL:https://rwdsystems.com
X-WR-CALDESC:Events for Rapid Weapon Deployment Systems L.L.C.
REFRESH-INTERVAL;VALUE=DURATION:PT1H
X-Robots-Tag:noindex
X-PUBLISHED-TTL:PT1H
BEGIN:VTIMEZONE
TZID:America/Chicago
BEGIN:DAYLIGHT
TZOFFSETFROM:-0600
TZOFFSETTO:-0500
TZNAME:CDT
DTSTART:20210314T080000
END:DAYLIGHT
BEGIN:STANDARD
TZOFFSETFROM:-0500
TZOFFSETTO:-0600
TZNAME:CST
DTSTART:20211107T070000
END:STANDARD
BEGIN:DAYLIGHT
TZOFFSETFROM:-0600
TZOFFSETTO:-0500
TZNAME:CDT
DTSTART:20220313T080000
END:DAYLIGHT
BEGIN:STANDARD
TZOFFSETFROM:-0500
TZOFFSETTO:-0600
TZNAME:CST
DTSTART:20221106T070000
END:STANDARD
BEGIN:DAYLIGHT
TZOFFSETFROM:-0600
TZOFFSETTO:-0500
TZNAME:CDT
DTSTART:20230312T080000
END:DAYLIGHT
BEGIN:STANDARD
TZOFFSETFROM:-0500
TZOFFSETTO:-0600
TZNAME:CST
DTSTART:20231105T070000
END:STANDARD
BEGIN:DAYLIGHT
TZOFFSETFROM:-0600
TZOFFSETTO:-0500
TZNAME:CDT
DTSTART:20240310T080000
END:DAYLIGHT
BEGIN:STANDARD
TZOFFSETFROM:-0500
TZOFFSETTO:-0600
TZNAME:CST
DTSTART:20241103T070000
END:STANDARD
BEGIN:DAYLIGHT
TZOFFSETFROM:-0600
TZOFFSETTO:-0500
TZNAME:CDT
DTSTART:20250309T080000
END:DAYLIGHT
BEGIN:STANDARD
TZOFFSETFROM:-0500
TZOFFSETTO:-0600
TZNAME:CST
DTSTART:20251102T070000
END:STANDARD
BEGIN:DAYLIGHT
TZOFFSETFROM:-0600
TZOFFSETTO:-0500
TZNAME:CDT
DTSTART:20260308T080000
END:DAYLIGHT
BEGIN:STANDARD
TZOFFSETFROM:-0500
TZOFFSETTO:-0600
TZNAME:CST
DTSTART:20261101T070000
END:STANDARD
BEGIN:DAYLIGHT
TZOFFSETFROM:-0600
TZOFFSETTO:-0500
TZNAME:CDT
DTSTART:20270314T080000
END:DAYLIGHT
BEGIN:STANDARD
TZOFFSETFROM:-0500
TZOFFSETTO:-0600
TZNAME:CST
DTSTART:20271107T070000
END:STANDARD
END:VTIMEZONE
BEGIN:VEVENT
DTSTART;TZID=America/Chicago:20260419T100000
DTEND;TZID=America/Chicago:20260419T160000
DTSTAMP:20260419T233134
CREATED:20260416T020941Z
LAST-MODIFIED:20260416T020941Z
UID:236-1776592800-1776614400@rwdsystems.com
SUMMARY:High Caliber Gun show Pasadena Tx
DESCRIPTION:Come see us in Pasadena Tx April 18th and 19th and use this code words \n“Gotta Get Mine” and get 25% off MSRP of $255.00. \nThats a $63.00 Savings! \nCome see us and get yours!
URL:https://rwdsystems.com/event/high-caliber-gun-show-pasadena-tx/
END:VEVENT
BEGIN:VEVENT
DTSTART;TZID=America/Chicago:20260418T090000
DTEND;TZID=America/Chicago:20260418T170000
DTSTAMP:20260419T233134
CREATED:20260416T020536Z
LAST-MODIFIED:20260416T020536Z
UID:227-1776502800-1776531600@rwdsystems.com
SUMMARY:High Caliber Gun Show
DESCRIPTION:Come see us in Pasadena Tx April 18th and 19th and use this code words \n“Gotta Get Mine” and get 25% off MSRP of $255.00. \nThats a $63.00 Savings! \nCome see us and get yours!
URL:https://rwdsystems.com/event/high-caliber-gun-show-2/
LOCATION:Pasadena Convention Center & Fairgrounds\, 7902 Fairmont Pkwy.\, Pasadena\, TX\, 77505\, United States
END:VEVENT
BEGIN:VEVENT
DTSTART;TZID=America/Chicago:20230819T090000
DTEND;TZID=America/Chicago:20230820T160000
DTSTAMP:20260419T233134
CREATED:20230314T214407Z
LAST-MODIFIED:20230804T160043Z
UID:196-1692435600-1692547200@rwdsystems.com
SUMMARY:High Caliber Gun and Knife Show
DESCRIPTION:
URL:https://rwdsystems.com/event/high-caliber-gun-and-knife-show-2023-08-19/
LOCATION:The Lone Star Convention & Expo Center\, 9055 Airport Rd\, Conroe\, TX\, 77303\, United States
END:VEVENT
BEGIN:VEVENT
DTSTART;TZID=America/Chicago:20230812T090000
DTEND;TZID=America/Chicago:20230813T160000
DTSTAMP:20260419T233134
CREATED:20230314T220136Z
LAST-MODIFIED:20230804T155451Z
UID:202-1691830800-1691942400@rwdsystems.com
SUMMARY:High Caliber Gun and Knife Show
DESCRIPTION:
URL:https://rwdsystems.com/event/high-caliber-gun-and-knife-show-2023-08-12/
LOCATION:Pasadena Convention Center & Fairgrounds\, 7902 Fairmont Pkwy.\, Pasadena\, TX\, 77505\, United States
END:VEVENT
BEGIN:VEVENT
DTSTART;TZID=America/Chicago:20230610T090000
DTEND;TZID=America/Chicago:20230611T160000
DTSTAMP:20260419T233134
CREATED:20230314T215707Z
LAST-MODIFIED:20230314T215744Z
UID:200-1686387600-1686499200@rwdsystems.com
SUMMARY:High Caliber Gun and Knife Show
DESCRIPTION:
URL:https://rwdsystems.com/event/high-caliber-gun-and-knife-show-2023-06-10/
LOCATION:Ford Park Entertainment Complex\, Ford Park Entertainment Complex 5115 Interstate 10 Access Rd\, Beaumont\, TX\, 77705\, United States
END:VEVENT
BEGIN:VEVENT
DTSTART;TZID=America/Chicago:20230527T090000
DTEND;TZID=America/Chicago:20230528T160000
DTSTAMP:20260419T233134
CREATED:20230314T214607Z
LAST-MODIFIED:20230314T214607Z
UID:198-1685178000-1685289600@rwdsystems.com
SUMMARY:High Caliber Gun and Knife Show
DESCRIPTION:
URL:https://rwdsystems.com/event/high-caliber-gun-and-knife-show-4/
LOCATION:Pasadena Convention Center & Fairgrounds\, 7902 Fairmont Pkwy.\, Pasadena\, TX\, 77505\, United States
END:VEVENT
BEGIN:VEVENT
DTSTART;TZID=America/Chicago:20230415T090000
DTEND;TZID=America/Chicago:20230416T160000
DTSTAMP:20260419T233134
CREATED:20230314T214141Z
LAST-MODIFIED:20230314T214141Z
UID:194-1681549200-1681660800@rwdsystems.com
SUMMARY:High Caliber Gun and Knife Show
DESCRIPTION:
URL:https://rwdsystems.com/event/high-caliber-gun-and-knife-show-2023-04-15/
LOCATION:Pasadena Convention Center & Fairgrounds\, 7902 Fairmont Pkwy.\, Pasadena\, TX\, 77505\, United States
END:VEVENT
BEGIN:VEVENT
DTSTART;TZID=America/Chicago:20230211T090000
DTEND;TZID=America/Chicago:20230212T160000
DTSTAMP:20260419T233134
CREATED:20221107T222234Z
LAST-MODIFIED:20221107T222234Z
UID:159-1676106000-1676217600@rwdsystems.com
SUMMARY:High Caliber Gun and Knife Show
DESCRIPTION:
URL:https://rwdsystems.com/event/high-caliber-gun-and-knife-show-2/
LOCATION:Ford Park Entertainment Complex\, Ford Park Entertainment Complex 5115 Interstate 10 Access Rd\, Beaumont\, TX\, 77705\, United States
END:VEVENT
BEGIN:VEVENT
DTSTART;TZID=America/Chicago:20230114T090000
DTEND;TZID=America/Chicago:20230115T160000
DTSTAMP:20260419T233134
CREATED:20230109T222311Z
LAST-MODIFIED:20230109T222311Z
UID:164-1673686800-1673798400@rwdsystems.com
SUMMARY:High Caliber Gun and Knife Show - Conroe TX
DESCRIPTION:Saturday\, Jan. 14\, 2023\, from 9 am to 5 pm\, \nand Sunday\, Jan. 15\, 2023\, from 10 am to 4 pm.
URL:https://rwdsystems.com/event/high-caliber-gun-and-knife-show-conroe-tx/
LOCATION:The Lone Star Convention & Expo Center\, 9055 Airport Rd\, Conroe\, TX\, 77303\, United States
END:VEVENT
BEGIN:VEVENT
DTSTART;TZID=America/Chicago:20230107T090000
DTEND;TZID=America/Chicago:20230108T160000
DTSTAMP:20260419T233134
CREATED:20221107T203742Z
LAST-MODIFIED:20221107T204846Z
UID:143-1673082000-1673193600@rwdsystems.com
SUMMARY:Six Bullets Bryan Gun Show
DESCRIPTION:Saturday (9am to 5pm) & Sunday (10am to 4pm)
URL:https://rwdsystems.com/event/six-bullets-bryan-gun-show/
LOCATION:Brazos County Expo Center\, 5827 Leonard Rd\, Bryan\, TX\, 77807\, United States
END:VEVENT
BEGIN:VEVENT
DTSTART;TZID=America/Chicago:20221210T090000
DTEND;TZID=America/Chicago:20221211T160000
DTSTAMP:20260419T233134
CREATED:20221107T210120Z
LAST-MODIFIED:20221107T211538Z
UID:153-1670662800-1670774400@rwdsystems.com
SUMMARY:High Caliber Gun Show
DESCRIPTION:Saturday\, Dec. 10\, 2022\, from 9 am to 5 pm\, \nand Sunday\, Dec. 11\, 2022\, from 10 am to 4 pm.
URL:https://rwdsystems.com/event/high-caliber-gun-show/
LOCATION:The Lone Star Convention & Expo Center\, 9055 Airport Rd\, Conroe\, TX\, 77303\, United States
END:VEVENT
BEGIN:VEVENT
DTSTART;TZID=America/Chicago:20221126T090000
DTEND;TZID=America/Chicago:20221127T160000
DTSTAMP:20260419T233134
CREATED:20221107T221355Z
LAST-MODIFIED:20221107T221355Z
UID:157-1669453200-1669564800@rwdsystems.com
SUMMARY:Six Bullets BLACK FRIDAY Pasadena Gun Show
DESCRIPTION:Saturday (9am to 5pm) & Sunday (10am to 4pm)
URL:https://rwdsystems.com/event/six-bullets-black-friday-pasadena-gun-show/
LOCATION:Pasadena Convention Center & Fairgrounds\, 7902 Fairmont Pkwy.\, Pasadena\, TX\, 77505\, United States
END:VEVENT
BEGIN:VEVENT
DTSTART;TZID=America/Chicago:20221112T090000
DTEND;TZID=America/Chicago:20221113T160000
DTSTAMP:20260419T233134
CREATED:20221107T205537Z
LAST-MODIFIED:20221107T205537Z
UID:150-1668243600-1668355200@rwdsystems.com
SUMMARY:High Caliber Gun and Knife Show
DESCRIPTION:Saturday\, 9 AM – 5 PM Sunday\, 10 AM – 4 PM
URL:https://rwdsystems.com/event/high-caliber-gun-and-knife-show/
LOCATION:Pasadena Convention Center & Fairgrounds\, 7902 Fairmont Pkwy.\, Pasadena\, TX\, 77505\, United States
END:VEVENT
END:VCALENDAR